BEGIN:VCALENDAR
VERSION:2.0
PRODID:-//A&#039;Rhûm - ECPv5.11.0//NONSGML v1.0//EN
CALSCALE:GREGORIAN
METHOD:PUBLISH
X-WR-CALNAME:A&#039;Rhûm
X-ORIGINAL-URL:https://www.arhum.fr
X-WR-CALDESC:évènements pour A&#039;Rhûm
BEGIN:VTIMEZONE
TZID:Europe/Paris
BEGIN:DAYLIGHT
TZOFFSETFROM:+0100
TZOFFSETTO:+0200
TZNAME:CEST
DTSTART:20260329T010000
END:DAYLIGHT
BEGIN:STANDARD
TZOFFSETFROM:+0200
TZOFFSETTO:+0100
TZNAME:CET
DTSTART:20261025T010000
END:STANDARD
TZID:Europe/Paris
BEGIN:DAYLIGHT
TZOFFSETFROM:+0100
TZOFFSETTO:+0200
TZNAME:CEST
DTSTART:20260329T010000
END:DAYLIGHT
BEGIN:STANDARD
TZOFFSETFROM:+0200
TZOFFSETTO:+0100
TZNAME:CET
DTSTART:20261025T010000
END:STANDARD
END:VTIMEZONE
BEGIN:VEVENT
DTSTART;TZID=Europe/Paris:20260115T200000
DTEND;TZID=Europe/Paris:20260115T220000
DTSTAMP:20260423T153936
CREATED:20251201T113611Z
LAST-MODIFIED:20260127T101958Z
UID:29070-1768507200-1768514400@www.arhum.fr
SUMMARY:Atelier #3
DESCRIPTION:Atelier #3 : Atelier de dégustation 6 rhums vieux\nVotre réservation sera confirmée uniquement après réception de votre règlement.\nÉtape 1 : Procédés d’élaboration\n\nDistillation\nVieillissement\nAssemblage\nFinition\n\nÉtape 2 : Techniques d’évaluation sensorielle des spiritueux\n\nLes épreuves sensorielles\nLes différentes étapes de la dégustation d’un spiritueux\nAnalyse sensorielle\n\nÉtape 3 : Association de 3 rhums vieux du cours avec des mets
URL:https://www.arhum.fr/ateliers-degustation/atelier-3-6-rhums-vieux-du-15-janvier-2025-20-heure/
LOCATION:Boutique A’Rhum\, 203 Rue saint-Martin\, Paris\, 75003\, France
CATEGORIES:Atelier 3,Atelier dégustations
ATTACH;FMTTYPE=image/jpeg:https://www.arhum.fr/wp-content/uploads/2016/06/Atelier_3.jpg
ORGANIZER;CN="A%27Rhum":MAILTO:arhums@laposte.net
END:VEVENT
BEGIN:VEVENT
DTSTART;TZID=Europe/Paris:20260122T200000
DTEND;TZID=Europe/Paris:20260122T223000
DTSTAMP:20260423T153936
CREATED:20260105T145719Z
LAST-MODIFIED:20260127T102009Z
UID:27969-1769112000-1769121000@www.arhum.fr
SUMMARY:PRIVATISE GROUPE Patrick Atelier #3
DESCRIPTION:Atelier #3 : Atelier de dégustation 6 rhums vieux\nVotre réservation sera confirmée uniquement après réception de votre règlement.\nÉtape 1 : Procédés d’élaboration\n\nDistillation\nVieillissement\nAssemblage\nFinition\n\nÉtape 2 : Techniques d’évaluation sensorielle des spiritueux\n\nLes épreuves sensorielles\nLes différentes étapes de la dégustation d’un spiritueux\nAnalyse sensorielle\n\nÉtape 3 : Association de 3 rhums vieux du cours avec des mets
URL:https://www.arhum.fr/ateliers-degustation/atelier-3-6-rhums-vieux-du-22-janvier-2025-20-heure-groupe-patrick/
LOCATION:Boutique A’Rhum\, 203 Rue saint-Martin\, Paris\, 75003\, France
CATEGORIES:Atelier 3,Atelier dégustations
ATTACH;FMTTYPE=image/jpeg:https://www.arhum.fr/wp-content/uploads/2016/06/Atelier_3.jpg
ORGANIZER;CN="A%27Rhum":MAILTO:arhums@laposte.net
END:VEVENT
BEGIN:VEVENT
DTSTART;TZID=Europe/Paris:20260123T200000
DTEND;TZID=Europe/Paris:20260123T220000
DTSTAMP:20260423T153936
CREATED:20251201T112740Z
LAST-MODIFIED:20260127T102023Z
UID:29511-1769198400-1769205600@www.arhum.fr
SUMMARY:Groupe Privatisé Benoît Atelier #3
DESCRIPTION:Atelier #3 : Atelier de dégustation 6 rhums vieux\nVotre réservation sera confirmée uniquement après réception de votre règlement.\nÉtape 1 : Procédés d’élaboration\n\nDistillation\nVieillissement\nAssemblage\nFinition\n\nÉtape 2 : Techniques d’évaluation sensorielle des spiritueux\n\nLes épreuves sensorielles\nLes différentes étapes de la dégustation d’un spiritueux\nAnalyse sensorielle\n\nÉtape 3 : Association de 3 rhums vieux du cours avec des mets
URL:https://www.arhum.fr/ateliers-degustation/atelier-3-6-rhums-vieux-du-23-janvie-2026-20-heure-groupe-benoit/
LOCATION:Boutique A’Rhum\, 203 Rue saint-Martin\, Paris\, 75003\, France
CATEGORIES:Atelier 3,Atelier dégustations
ATTACH;FMTTYPE=image/jpeg:https://www.arhum.fr/wp-content/uploads/2016/06/Atelier_3.jpg
ORGANIZER;CN="A%27Rhum":MAILTO:arhums@laposte.net
END:VEVENT
BEGIN:VEVENT
DTSTART;TZID=Europe/Paris:20260129T200000
DTEND;TZID=Europe/Paris:20260129T220000
DTSTAMP:20260423T153936
CREATED:20260105T163931Z
LAST-MODIFIED:20260203T130816Z
UID:29172-1769716800-1769724000@www.arhum.fr
SUMMARY:Atelier # 2
DESCRIPTION:Atelier #2 : Atelier de dégustation 2 rhums blanc 4 rhums vieux \nVotre réservation sera confirmée uniquement après réception de votre règlement.\nÉtape 1 : Procédés d’élaboration\n\nDistillation\nVieillissement\nAssemblage\nFinition\n\nÉtape 2 : Techniques d’évaluation sensorielle des spiritueux\n\nLes épreuves sensorielles\nLes différentes étapes de la dégustation d’un spiritueux\nAnalyse sensorielle\n\nÉtape 3 : Association de 3 rhums vieux du cours avec des mets
URL:https://www.arhum.fr/ateliers-degustation/atelier-2-2-rhums-blanc-4-rhums-vieux-du-29-janvier-2026-20-heure/
LOCATION:Boutique A’Rhum\, 203 Rue saint-Martin\, Paris\, 75003\, France
CATEGORIES:Atelier 2,Atelier dégustations
ATTACH;FMTTYPE=image/jpeg:https://www.arhum.fr/wp-content/uploads/2016/06/ateliers.jpg
ORGANIZER;CN="A%27Rhum":MAILTO:arhums@laposte.net
END:VEVENT
BEGIN:VEVENT
DTSTART;TZID=Europe/Paris:20260130T200000
DTEND;TZID=Europe/Paris:20260130T220000
DTSTAMP:20260423T153936
CREATED:20260116T155148Z
LAST-MODIFIED:20260203T130854Z
UID:27731-1769803200-1769810400@www.arhum.fr
SUMMARY:Privatisé Groupe Anthony Atelier #3
DESCRIPTION:Atelier #3 : Atelier de dégustation 6 rhums vieux\nVotre réservation sera confirmée uniquement après réception de votre règlement.\nÉtape 1 : Procédés d’élaboration\n\nDistillation\nVieillissement\nAssemblage\nFinition\n\nÉtape 2 : Techniques d’évaluation sensorielle des spiritueux\n\nLes épreuves sensorielles\nLes différentes étapes de la dégustation d’un spiritueux\nAnalyse sensorielle\n\nÉtape 3 : Association de 3 rhums vieux du cours avec des mets
URL:https://www.arhum.fr/ateliers-degustation/atelier-3-6-rhums-vieux-du-30-janvier-2026-20-heure/
LOCATION:Boutique A’Rhum\, 203 Rue saint-Martin\, Paris\, 75003\, France
CATEGORIES:Atelier 3,Atelier dégustations
ATTACH;FMTTYPE=image/jpeg:https://www.arhum.fr/wp-content/uploads/2016/06/Atelier_3.jpg
ORGANIZER;CN="A%27Rhum":MAILTO:arhums@laposte.net
END:VEVENT
END:VCALENDAR