BEGIN:VCALENDAR
VERSION:2.0
PRODID:-//A&#039;Rhûm - ECPv5.11.0//NONSGML v1.0//EN
CALSCALE:GREGORIAN
METHOD:PUBLISH
X-WR-CALNAME:A&#039;Rhûm
X-ORIGINAL-URL:https://www.arhum.fr
X-WR-CALDESC:évènements pour A&#039;Rhûm
BEGIN:VTIMEZONE
TZID:Europe/Paris
BEGIN:DAYLIGHT
TZOFFSETFROM:+0100
TZOFFSETTO:+0200
TZNAME:CEST
DTSTART:20250330T010000
END:DAYLIGHT
BEGIN:STANDARD
TZOFFSETFROM:+0200
TZOFFSETTO:+0100
TZNAME:CET
DTSTART:20251026T010000
END:STANDARD
TZID:Europe/Paris
BEGIN:DAYLIGHT
TZOFFSETFROM:+0100
TZOFFSETTO:+0200
TZNAME:CEST
DTSTART:20250330T010000
END:DAYLIGHT
BEGIN:STANDARD
TZOFFSETFROM:+0200
TZOFFSETTO:+0100
TZNAME:CET
DTSTART:20251026T010000
END:STANDARD
END:VTIMEZONE
BEGIN:VEVENT
DTSTART;TZID=Europe/Paris:20251203T200000
DTEND;TZID=Europe/Paris:20251203T220000
DTSTAMP:20260423T165726
CREATED:20250918T165953Z
LAST-MODIFIED:20260127T101926Z
UID:29177-1764792000-1764799200@www.arhum.fr
SUMMARY:Atelier # 2
DESCRIPTION:Atelier #2 : Atelier de dégustation 2 rhums blanc 4 rhums vieux\nVotre réservation sera confirmée uniquement après réception de votre règlement.\nÉtape 1 : Procédés d’élaboration\n\nDistillation\nVieillissement\nAssemblage\nFinition\n\nÉtape 2 : Techniques d’évaluation sensorielle des spiritueux\n\nLes épreuves sensorielles\nLes différentes étapes de la dégustation d’un spiritueux\nAnalyse sensorielle\n\nÉtape 3 : Association de 3 rhums vieux du cours avec des mets
URL:https://www.arhum.fr/ateliers-degustation/atelier-2-2-rhums-blanc-4-rhums-vieux-du-03-decembre-2025-20-heure/
LOCATION:Boutique A’Rhum\, 203 Rue saint-Martin\, Paris\, 75003\, France
CATEGORIES:Atelier 2,Atelier dégustations
ATTACH;FMTTYPE=image/jpeg:https://www.arhum.fr/wp-content/uploads/2016/06/ateliers.jpg
ORGANIZER;CN="A%27Rhum":MAILTO:arhums@laposte.net
END:VEVENT
BEGIN:VEVENT
DTSTART;TZID=Europe/Paris:20251204T200000
DTEND;TZID=Europe/Paris:20251204T220000
DTSTAMP:20260423T165726
CREATED:20250918T181345Z
LAST-MODIFIED:20260127T101734Z
UID:26650-1764878400-1764885600@www.arhum.fr
SUMMARY:Atelier #3
DESCRIPTION:Atelier #3 : Atelier de dégustation 6 rhums vieux\nVotre réservation sera confirmée uniquement après réception de votre règlement.\nÉtape 1 : Procédés d’élaboration\n\nDistillation\nVieillissement\nAssemblage\nFinition\n\nÉtape 2 : Techniques d’évaluation sensorielle des spiritueux\n\nLes épreuves sensorielles\nLes différentes étapes de la dégustation d’un spiritueux\nAnalyse sensorielle\n\nÉtape 3 : Association de 3 rhums vieux du cours avec des mets
URL:https://www.arhum.fr/ateliers-degustation/atelier-3-6-rhums-vieux-du-04-decembre-2025-20-heure/
LOCATION:Boutique A’Rhum\, 203 Rue saint-Martin\, Paris\, 75003\, France
CATEGORIES:Atelier 3,Atelier dégustations
ATTACH;FMTTYPE=image/jpeg:https://www.arhum.fr/wp-content/uploads/2016/06/Atelier_3.jpg
ORGANIZER;CN="A%27Rhum":MAILTO:arhums@laposte.net
END:VEVENT
BEGIN:VEVENT
DTSTART;TZID=Europe/Paris:20251217T200000
DTEND;TZID=Europe/Paris:20251217T220000
DTSTAMP:20260423T165726
CREATED:20250918T171038Z
LAST-MODIFIED:20260127T101940Z
UID:29069-1766001600-1766008800@www.arhum.fr
SUMMARY:Atelier #3
DESCRIPTION:Atelier #3 : Atelier de dégustation 6 rhums vieux\nVotre réservation sera confirmée uniquement après réception de votre règlement.\nÉtape 1 : Procédés d’élaboration\n\nDistillation\nVieillissement\nAssemblage\nFinition\n\nÉtape 2 : Techniques d’évaluation sensorielle des spiritueux\n\nLes épreuves sensorielles\nLes différentes étapes de la dégustation d’un spiritueux\nAnalyse sensorielle\n\nÉtape 3 : Association de 3 rhums vieux du cours avec des mets
URL:https://www.arhum.fr/ateliers-degustation/atelier-3-6-rhums-vieux-du-17-decembre-2025-20-heure/
LOCATION:Boutique A’Rhum\, 203 Rue saint-Martin\, Paris\, 75003\, France
CATEGORIES:Atelier 3,Atelier dégustations
ATTACH;FMTTYPE=image/jpeg:https://www.arhum.fr/wp-content/uploads/2016/06/Atelier_3.jpg
ORGANIZER;CN="A%27Rhum":MAILTO:arhums@laposte.net
END:VEVENT
BEGIN:VEVENT
DTSTART;TZID=Europe/Paris:20251222T200000
DTEND;TZID=Europe/Paris:20251222T220000
DTSTAMP:20260423T165726
CREATED:20251103T173000Z
LAST-MODIFIED:20260127T101948Z
UID:28551-1766433600-1766440800@www.arhum.fr
SUMMARY:Privatisé Groupe Antoine Atelier # 4
DESCRIPTION:Atelier #4 : Atelier de dégustation 2 rhums blanc 3 rhums vieux\nVotre réservation sera confirmée uniquement après réception de votre règlement.\nÉtape 1 : Procédés d’élaboration\n\nDistillation\nVieillissement\nAssemblage\nFinition\n\nÉtape 2 : Techniques d’évaluation sensorielle des spiritueux\n\nLes épreuves sensorielles\nLes différentes étapes de la dégustation d’un spiritueux\nAnalyse sensorielle\n\nÉtape 3 : Association de 2 rhums vieux du cours avec des mets\nÉtape 4 : Le petit verre de planteur d’au revoir
URL:https://www.arhum.fr/ateliers-degustation/atelier-4-2-rhums-blanc-3-rhums-vieux-du-22-decembre-2025-20-heure-goupe-antoine/
LOCATION:Boutique A’Rhum\, 203 Rue saint-Martin\, Paris\, 75003\, France
CATEGORIES:Atelier 4,Atelier dégustations
ATTACH;FMTTYPE=image/webp:https://www.arhum.fr/wp-content/uploads/2021/10/bresil-Cachaca.webp
ORGANIZER;CN="A%27Rhum":MAILTO:arhums@laposte.net
END:VEVENT
END:VCALENDAR