BEGIN:VCALENDAR
VERSION:2.0
PRODID:-//A&#039;Rhûm - ECPv5.11.0//NONSGML v1.0//EN
CALSCALE:GREGORIAN
METHOD:PUBLISH
X-WR-CALNAME:A&#039;Rhûm
X-ORIGINAL-URL:https://www.arhum.fr
X-WR-CALDESC:évènements pour A&#039;Rhûm
BEGIN:VTIMEZONE
TZID:Europe/Paris
BEGIN:DAYLIGHT
TZOFFSETFROM:+0100
TZOFFSETTO:+0200
TZNAME:CEST
DTSTART:20250330T010000
END:DAYLIGHT
BEGIN:STANDARD
TZOFFSETFROM:+0200
TZOFFSETTO:+0100
TZNAME:CET
DTSTART:20251026T010000
END:STANDARD
TZID:Europe/Paris
BEGIN:DAYLIGHT
TZOFFSETFROM:+0100
TZOFFSETTO:+0200
TZNAME:CEST
DTSTART:20250330T010000
END:DAYLIGHT
BEGIN:STANDARD
TZOFFSETFROM:+0200
TZOFFSETTO:+0100
TZNAME:CET
DTSTART:20251026T010000
END:STANDARD
END:VTIMEZONE
BEGIN:VEVENT
DTSTART;TZID=Europe/Paris:20251112T200000
DTEND;TZID=Europe/Paris:20251112T220000
DTSTAMP:20260423T182142
CREATED:20250918T165247Z
LAST-MODIFIED:20260127T101852Z
UID:29171-1762977600-1762984800@www.arhum.fr
SUMMARY:Atelier # 2
DESCRIPTION:Atelier #2 : Atelier de dégustation 2 rhums blanc 4 rhums vieux\nVotre réservation sera confirmée uniquement après réception de votre règlement.\nÉtape 1 : Procédés d’élaboration\n\nDistillation\nVieillissement\nAssemblage\nFinition\n\nÉtape 2 : Techniques d’évaluation sensorielle des spiritueux\n\nLes épreuves sensorielles\nLes différentes étapes de la dégustation d’un spiritueux\nAnalyse sensorielle\n\nÉtape 3 : Association de 3 rhums vieux du cours avec des mets
URL:https://www.arhum.fr/ateliers-degustation/atelier-2-2-rhums-blanc-4-rhums-vieux-du-12-novembre-2025-20-heure/
LOCATION:Boutique A’Rhum\, 203 Rue saint-Martin\, Paris\, 75003\, France
CATEGORIES:Atelier 2,Atelier dégustations
ATTACH;FMTTYPE=image/jpeg:https://www.arhum.fr/wp-content/uploads/2016/06/ateliers.jpg
ORGANIZER;CN="A%27Rhum":MAILTO:arhums@laposte.net
END:VEVENT
BEGIN:VEVENT
DTSTART;TZID=Europe/Paris:20251119T200000
DTEND;TZID=Europe/Paris:20251119T220000
DTSTAMP:20260423T182142
CREATED:20250918T174948Z
LAST-MODIFIED:20260127T101858Z
UID:27628-1763582400-1763589600@www.arhum.fr
SUMMARY:Atelier # 1
DESCRIPTION:Atelier #1 : Atelier de dégustation 3 rhums blanc 3 rhums vieux\nVotre réservation sera confirmée uniquement après réception de votre règlement.\nÉtape 1 : Procédés d’élaboration\n\nDistillation\nVieillissement\nAssemblage\nFinition\n\nÉtape 2 : Techniques d’évaluation sensorielle des spiritueux\n\nLes épreuves sensorielles\nLes différentes étapes de la dégustation d’un spiritueux\nAnalyse sensorielle\n\nÉtape 3 : Association de 2 rhums vieux du cours avec des mets
URL:https://www.arhum.fr/ateliers-degustation/atelier-1-3-rhums-blanc-3-rhums-vieux-du-19-novembre-2025-20-heure/
LOCATION:Boutique A’Rhum\, 203 Rue saint-Martin\, Paris\, 75003\, France
CATEGORIES:Atelier 1,Atelier dégustations
ATTACH;FMTTYPE=image/jpeg:https://www.arhum.fr/wp-content/uploads/2016/03/Atelier_1.jpg
ORGANIZER;CN="A%27Rhum":MAILTO:arhums@laposte.net
END:VEVENT
BEGIN:VEVENT
DTSTART;TZID=Europe/Paris:20251126T200000
DTEND;TZID=Europe/Paris:20251126T220000
DTSTAMP:20260423T182142
CREATED:20250918T181928Z
LAST-MODIFIED:20260127T101909Z
UID:23059-1764187200-1764194400@www.arhum.fr
SUMMARY:Atelier #3
DESCRIPTION:Atelier #3 : Atelier de dégustation 6 rhums vieux\nVotre réservation sera confirmée uniquement après réception de votre règlement.\nÉtape 1 : Procédés d’élaboration\n\nDistillation\nVieillissement\nAssemblage\nFinition\n\nÉtape 2 : Techniques d’évaluation sensorielle des spiritueux\n\nLes épreuves sensorielles\nLes différentes étapes de la dégustation d’un spiritueux\nAnalyse sensorielle\n\nÉtape 3 : Association de 3 rhums vieux du cours avec des mets
URL:https://www.arhum.fr/ateliers-degustation/atelier-3-6-rhums-vieux-du-26-novembre-2025-20-heure/
LOCATION:Boutique A’Rhum\, 203 Rue saint-Martin\, Paris\, 75003\, France
CATEGORIES:Atelier 3,Atelier dégustations
ATTACH;FMTTYPE=image/jpeg:https://www.arhum.fr/wp-content/uploads/2016/06/Atelier_3.jpg
ORGANIZER;CN="A%27Rhum":MAILTO:arhums@laposte.net
END:VEVENT
BEGIN:VEVENT
DTSTART;TZID=Europe/Paris:20251127T200000
DTEND;TZID=Europe/Paris:20251127T220000
DTSTAMP:20260423T182142
CREATED:20251112T152744Z
LAST-MODIFIED:20260127T101917Z
UID:28806-1764273600-1764280800@www.arhum.fr
SUMMARY:Atelier privatisé groupe Simon Atelier # 1
DESCRIPTION:Atelier #1 : Atelier de dégustation 3 rhums blanc 3 rhums vieux\nVotre réservation sera confirmée uniquement après réception de votre règlement.\nÉtape 1 : Procédés d’élaboration\n\nDistillation\nVieillissement\nAssemblage\nFinition\n\nÉtape 2 : Techniques d’évaluation sensorielle des spiritueux\n\nLes épreuves sensorielles\nLes différentes étapes de la dégustation d’un spiritueux\nAnalyse sensorielle\n\nÉtape 3 : Association de 2 rhums vieux du cours avec des mets
URL:https://www.arhum.fr/ateliers-degustation/atelier-1-3-rhums-blanc-3-rhums-vieux-du-27-novembre-2025-20-heure/
LOCATION:Boutique A’Rhum\, 203 Rue saint-Martin\, Paris\, 75003\, France
CATEGORIES:Atelier 1,Atelier dégustations
ATTACH;FMTTYPE=image/jpeg:https://www.arhum.fr/wp-content/uploads/2016/03/Atelier_1.jpg
ORGANIZER;CN="A%27Rhum":MAILTO:arhums@laposte.net
END:VEVENT
END:VCALENDAR